BEGIN:VCALENDAR
VERSION:2.0
PRODID:icalendar-ruby
CALSCALE:GREGORIAN
METHOD:PUBLISH
BEGIN:VEVENT
DTSTAMP:20260425T163041Z
UID:132-1366859@clcathens.org
DTSTART:20261008T140000Z
DTEND:20261008T150000Z
CLASS:PUBLIC
CREATED:20260425T121621
DESCRIPTION:Meets at Donkey Coffee every thursday at 10am. 
LAST-MODIFIED:20260425T121621
LOCATION:Donkey Coffee
SUMMARY:CC w/ PC @ DC
URL;VALUE=URI:https://www.clcathens.org/events/cc-w-pc-dc/2026-10-08
ATTACH;FILENAME=donkey.png;FMTTYPE=image/png:https://dq5pwpg1q8ru0.cloudfro
 nt.net/2024/08/08/17/37/44/cffbbfdf-f21a-46db-b9af-0599b64c255b/donkey.png
END:VEVENT
END:VCALENDAR
