BEGIN:VCALENDAR
VERSION:2.0
PRODID:icalendar-ruby
CALSCALE:GREGORIAN
METHOD:PUBLISH
BEGIN:VEVENT
DTSTAMP:20260424T142555Z
UID:19-1361131@clcathens.org
DTSTART:20261004T140000Z
DTEND:20261004T150000Z
CLASS:PUBLIC
CREATED:20260424T095322
DESCRIPTION:JOIN LIVESTREAM HERE
LAST-MODIFIED:20260424T095322
LOCATION:
SUMMARY:Sunday Worship
URL;VALUE=URI:https://www.clcathens.org/events/sunday-worship--19/2026-10-0
 4
END:VEVENT
END:VCALENDAR
