BEGIN:VCALENDAR
VERSION:2.0
PRODID:icalendar-ruby
CALSCALE:GREGORIAN
METHOD:PUBLISH
BEGIN:VEVENT
DTSTAMP:20260424T192128Z
UID:19-1361881@clcathens.org
DTSTART:20261025T140000Z
DTEND:20261025T150000Z
CLASS:PUBLIC
CREATED:20260424T124324
DESCRIPTION:JOIN LIVESTREAM HERE
LAST-MODIFIED:20260424T124324
LOCATION:
SUMMARY:Sunday Worship
URL;VALUE=URI:https://www.clcathens.org/events/sunday-worship--19/2026-10-2
 5
END:VEVENT
END:VCALENDAR
