BEGIN:VCALENDAR
VERSION:2.0
PRODID:icalendar-ruby
CALSCALE:GREGORIAN
METHOD:PUBLISH
BEGIN:VEVENT
DTSTAMP:20260424T205723Z
UID:19-1362629@clcathens.org
DTSTART:20261101T150000Z
DTEND:20261101T160000Z
CLASS:PUBLIC
CREATED:20260424T152938
DESCRIPTION:JOIN LIVESTREAM HERE
LAST-MODIFIED:20260424T152938
LOCATION:
SUMMARY:Sunday Worship
URL;VALUE=URI:https://www.clcathens.org/events/sunday-worship--19/2026-11-0
 1
END:VEVENT
END:VCALENDAR
